BEGIN:VCALENDAR
VERSION:2.0
PRODID:-//Plone.org//NONSGML plone.app.event//EN
X-WR-TIMEZONE:Brazil/East
BEGIN:VEVENT
SUMMARY:Sessão Solene - Titulo de Cidadão Honorário - Ivo Pegoraro
DTSTART;TZID=Brazil/East;VALUE=DATE-TIME:20231006T190000
DTEND;TZID=Brazil/East;VALUE=DATE-TIME:20231006T200000
DTSTAMP;VALUE=DATE-TIME:20260425T205836Z
UID:1b71200752b1479f91b337f1154cb132@www.franciscobeltrao.pr.leg.br
CREATED;VALUE=DATE-TIME:20230807T193845Z
LAST-MODIFIED;VALUE=DATE-TIME:20230807T193849Z
URL:https://www.franciscobeltrao.pr.leg.br/institucional/eventos/sessao-so
 lene-titulo-de-cidadao-honorario-ivo-pegoraro
END:VEVENT
BEGIN:VTIMEZONE
TZID:Brazil/East
X-LIC-LOCATION:Brazil/East
BEGIN:STANDARD
DTSTART;VALUE=DATE-TIME:20230225T230000
TZNAME:BRT
TZOFFSETFROM:-0200
TZOFFSETTO:-0300
END:STANDARD
END:VTIMEZONE
END:VCALENDAR
