BEGIN:VCALENDAR
VERSION:2.0
PRODID:-//Plone.org//NONSGML plone.app.event//EN
X-WR-TIMEZONE:Brazil/East
BEGIN:VEVENT
SUMMARY:Sessão Plenária
DTSTART;TZID=Brazil/East;VALUE=DATE-TIME:20220919T080000
DTEND;TZID=Brazil/East;VALUE=DATE-TIME:20220919T090000
DTSTAMP;VALUE=DATE-TIME:20260424T102513Z
UID:94c1af7a29424e5c8d4ebdb83f326683@www.franciscobeltrao.pr.leg.br
EXDATE;TZID=Brazil/East:20220921T000000,20220922T000000,20220923T000000,20
 220924T000000,20220925T000000
CREATED;VALUE=DATE-TIME:20220817T111340Z
LAST-MODIFIED;VALUE=DATE-TIME:20220817T111346Z
RRULE:FREQ=DAILY;COUNT=7
URL:https://www.franciscobeltrao.pr.leg.br/institucional/eventos/sessao-pl
 enaria-7
END:VEVENT
BEGIN:VTIMEZONE
TZID:Brazil/East
X-LIC-LOCATION:Brazil/East
BEGIN:STANDARD
DTSTART;VALUE=DATE-TIME:20220219T230000
TZNAME:BRT
TZOFFSETFROM:-0200
TZOFFSETTO:-0300
END:STANDARD
END:VTIMEZONE
END:VCALENDAR
