BEGIN:VCALENDAR
VERSION:2.0
PRODID:-//Plone.org//NONSGML plone.app.event//EN
X-WR-TIMEZONE:Brazil/East
BEGIN:VEVENT
SUMMARY:Sessão Plenária
DTSTART;TZID=Brazil/East;VALUE=DATE-TIME:20220830T140000
DTEND;TZID=Brazil/East;VALUE=DATE-TIME:20220830T150000
DTSTAMP;VALUE=DATE-TIME:20260424T102514Z
UID:9a861693742645c9933832b4026a571f@www.franciscobeltrao.pr.leg.br
CREATED;VALUE=DATE-TIME:20220817T110340Z
LAST-MODIFIED;VALUE=DATE-TIME:20220817T111101Z
URL:https://www.franciscobeltrao.pr.leg.br/institucional/eventos/sessao-pl
 enaria-3
END:VEVENT
BEGIN:VTIMEZONE
TZID:Brazil/East
X-LIC-LOCATION:Brazil/East
BEGIN:STANDARD
DTSTART;VALUE=DATE-TIME:20220219T230000
TZNAME:BRT
TZOFFSETFROM:-0200
TZOFFSETTO:-0300
END:STANDARD
END:VTIMEZONE
END:VCALENDAR
