BEGIN:VCALENDAR
VERSION:2.0
PRODID:-//Plone.org//NONSGML plone.app.event//EN
X-WR-TIMEZONE:Brazil/East
BEGIN:VEVENT
SUMMARY:Sessão Ordinária
DTSTART;TZID=Brazil/East;VALUE=DATE-TIME:20240429T140000
DTEND;TZID=Brazil/East;VALUE=DATE-TIME:20240429T150000
DTSTAMP;VALUE=DATE-TIME:20260424T132916Z
UID:78805656b170472989dfa1f9fc42d2c7@www.franciscobeltrao.pr.leg.br
EXDATE;TZID=Brazil/East:20240501T000000,20240502T000000,20240503T000000,20
 240504T000000,20240505T000000,20240508T000000,20240509T000000,20240510T000
 000,20240511T000000,20240512T000000,20240515T000000,20240516T000000,202405
 17T000000,20240518T000000,20240519T000000,20240522T000000,20240523T000000,
 20240524T000000,20240525T000000,20240526T000000,20240529T000000,20240530T0
 00000,20240531T000000
CREATED;VALUE=DATE-TIME:20240424T180750Z
LAST-MODIFIED;VALUE=DATE-TIME:20240424T181038Z
RRULE:FREQ=DAILY;UNTIL=20240531T000000
URL:https://www.franciscobeltrao.pr.leg.br/institucional/eventos/sessao-or
 dinaria-8
END:VEVENT
BEGIN:VTIMEZONE
TZID:Brazil/East
X-LIC-LOCATION:Brazil/East
BEGIN:STANDARD
DTSTART;VALUE=DATE-TIME:20240217T230000
TZNAME:BRT
TZOFFSETFROM:-0200
TZOFFSETTO:-0300
END:STANDARD
END:VTIMEZONE
END:VCALENDAR
