BEGIN:VCALENDAR
VERSION:2.0
PRODID:-//Plone.org//NONSGML plone.app.event//EN
X-WR-TIMEZONE:Brazil/East
BEGIN:VEVENT
SUMMARY:Sessão Ordinária
DTSTART;TZID=Brazil/East;VALUE=DATE-TIME:20240507T140000
DTEND;TZID=Brazil/East;VALUE=DATE-TIME:20240507T150000
DTSTAMP;VALUE=DATE-TIME:20260424T124152Z
UID:78805656b170472989dfa1f9fc42d2c7@www.franciscobeltrao.pr.leg.br
CREATED;VALUE=DATE-TIME:20240424T180750Z
LAST-MODIFIED;VALUE=DATE-TIME:20240424T181038Z
URL:https://www.franciscobeltrao.pr.leg.br/institucional/eventos/sessao-or
 dinaria-8/2024-05-07
END:VEVENT
BEGIN:VTIMEZONE
TZID:Brazil/East
X-LIC-LOCATION:Brazil/East
BEGIN:STANDARD
DTSTART;VALUE=DATE-TIME:20240217T230000
TZNAME:BRT
TZOFFSETFROM:-0200
TZOFFSETTO:-0300
END:STANDARD
END:VTIMEZONE
END:VCALENDAR
