BEGIN:VCALENDAR
VERSION:2.0
PRODID:-//Plone.org//NONSGML plone.app.event//EN
X-WR-TIMEZONE:Brazil/East
BEGIN:VEVENT
SUMMARY:Sessão Ordinária
DTSTART;TZID=Brazil/East;VALUE=DATE-TIME:20230502T140000
DTSTAMP;VALUE=DATE-TIME:20260422T045128Z
UID:b5eba3617d094a938cb17b5eee9cf2bf@www.franciscobeltrao.pr.leg.br
EXDATE;TZID=Brazil/East:20230503T000000,20230504T000000,20230505T000000,20
 230506T000000,20230507T000000,20230510T000000,20230511T000000,20230512T000
 000,20230513T000000,20230514T000000,20230517T000000,20230518T000000,202305
 19T000000,20230520T000000,20230521T000000,20230524T000000,20230525T000000,
 20230526T000000,20230527T000000,20230528T000000,20230531T000000
CREATED;VALUE=DATE-TIME:20230427T144619Z
LAST-MODIFIED;VALUE=DATE-TIME:20230427T144807Z
RRULE:FREQ=DAILY;UNTIL=20230531T000000
URL:https://www.franciscobeltrao.pr.leg.br/institucional/eventos/sessao-or
 dinaria-2
END:VEVENT
BEGIN:VTIMEZONE
TZID:Brazil/East
X-LIC-LOCATION:Brazil/East
BEGIN:STANDARD
DTSTART;VALUE=DATE-TIME:20230225T230000
TZNAME:BRT
TZOFFSETFROM:-0200
TZOFFSETTO:-0300
END:STANDARD
END:VTIMEZONE
END:VCALENDAR
