BEGIN:VCALENDAR
VERSION:2.0
PRODID:-//Plone.org//NONSGML plone.app.event//EN
X-WR-TIMEZONE:Brazil/East
BEGIN:VEVENT
SUMMARY:Sessão Ordinária
DTSTART;VALUE=DATE:20221024
DTEND;VALUE=DATE:20221125
DTSTAMP;VALUE=DATE-TIME:20260424T102715Z
UID:068e3e9d414f42d682a984325f4e8944@www.franciscobeltrao.pr.leg.br
EXDATE;TZID=Brazil/East:20221026T000000,20221027T000000,20221028T000000,20
 221029T000000,20221030T000000,20221102T000000,20221103T000000,20221104T000
 000,20221105T000000,20221106T000000,20221109T000000,20221110T000000,202211
 11T000000,20221112T000000,20221113T000000,20221114T000000,20221115T000000,
 20221116T000000,20221117T000000,20221118T000000,20221119T000000,20221120T0
 00000,20221123T000000,20221124T000000,20221125T000000,20221126T000000,2022
 1127T000000
CREATED;VALUE=DATE-TIME:20221017T123926Z
LAST-MODIFIED;VALUE=DATE-TIME:20221017T124254Z
RRULE:FREQ=DAILY;UNTIL=20221129T000000
URL:https://www.franciscobeltrao.pr.leg.br/institucional/eventos/sessao-or
 dinaria-1
END:VEVENT
END:VCALENDAR
