BEGIN:VCALENDAR
VERSION:2.0
PRODID:-//Plone.org//NONSGML plone.app.event//EN
X-WR-TIMEZONE:Brazil/East
BEGIN:VEVENT
SUMMARY:Secretaria Municipal de Saúde (Planejamento Familiar)
DTSTART;TZID=Brazil/East;VALUE=DATE-TIME:20231129T130000
DTEND;TZID=Brazil/East;VALUE=DATE-TIME:20231129T150000
DTSTAMP;VALUE=DATE-TIME:20260424T030118Z
UID:188a330914d545e6981d5c54dbd5965b@www.franciscobeltrao.pr.leg.br
CREATED;VALUE=DATE-TIME:20230621T124706Z
LAST-MODIFIED;VALUE=DATE-TIME:20230621T124710Z
URL:https://www.franciscobeltrao.pr.leg.br/institucional/eventos/secretari
 a-municipal-de-saude-planejamento-familiar-1
END:VEVENT
BEGIN:VTIMEZONE
TZID:Brazil/East
X-LIC-LOCATION:Brazil/East
BEGIN:DAYLIGHT
DTSTART;VALUE=DATE-TIME:20231015T010000
TZNAME:BRST
TZOFFSETFROM:-0300
TZOFFSETTO:-0200
END:DAYLIGHT
END:VTIMEZONE
END:VCALENDAR
