BEGIN:VCALENDAR
VERSION:2.0
PRODID:-//Plone.org//NONSGML plone.app.event//EN
X-WR-TIMEZONE:Brazil/East
BEGIN:VEVENT
SUMMARY:Secretaria da Saude (Planejamento familiar)
DTSTART;TZID=Brazil/East;VALUE=DATE-TIME:20230726T130000
DTEND;TZID=Brazil/East;VALUE=DATE-TIME:20230726T150000
DTSTAMP;VALUE=DATE-TIME:20260425T113002Z
UID:79fbd0e310174f3ba0ab1aee79503cda@www.franciscobeltrao.pr.leg.br
CREATED;VALUE=DATE-TIME:20230621T123947Z
LAST-MODIFIED;VALUE=DATE-TIME:20230621T124008Z
URL:https://www.franciscobeltrao.pr.leg.br/institucional/eventos/secretari
 a-da-saude-planejamento-familiar
END:VEVENT
BEGIN:VTIMEZONE
TZID:Brazil/East
X-LIC-LOCATION:Brazil/East
BEGIN:STANDARD
DTSTART;VALUE=DATE-TIME:20230225T230000
TZNAME:BRT
TZOFFSETFROM:-0200
TZOFFSETTO:-0300
END:STANDARD
END:VTIMEZONE
END:VCALENDAR
