BEGIN:VCALENDAR
VERSION:2.0
PRODID:-//Plone.org//NONSGML plone.app.event//EN
X-WR-TIMEZONE:Brazil/East
BEGIN:VEVENT
SUMMARY:Secretaria da Saúde (Planejamento Familiar)
DTSTART;TZID=Brazil/East;VALUE=DATE-TIME:20230927T130000
DTEND;TZID=Brazil/East;VALUE=DATE-TIME:20230927T150000
DTSTAMP;VALUE=DATE-TIME:20260425T205836Z
UID:76e48bbf80664571b6df1b1006379fbe@www.franciscobeltrao.pr.leg.br
CREATED;VALUE=DATE-TIME:20230621T124450Z
LAST-MODIFIED;VALUE=DATE-TIME:20230621T124457Z
URL:https://www.franciscobeltrao.pr.leg.br/institucional/eventos/secretari
 a-da-saude-planejamento-familiar-1
END:VEVENT
BEGIN:VTIMEZONE
TZID:Brazil/East
X-LIC-LOCATION:Brazil/East
BEGIN:STANDARD
DTSTART;VALUE=DATE-TIME:20230225T230000
TZNAME:BRT
TZOFFSETFROM:-0200
TZOFFSETTO:-0300
END:STANDARD
END:VTIMEZONE
END:VCALENDAR
