BEGIN:VCALENDAR
VERSION:2.0
PRODID:-//Plone.org//NONSGML plone.app.event//EN
X-WR-TIMEZONE:Brazil/East
BEGIN:VEVENT
SUMMARY:Reunião de Comissão Permanente de Educação\, Cultura e Esporte
 s
DTSTART;TZID=Brazil/East;VALUE=DATE-TIME:20230529T130000
DTEND;TZID=Brazil/East;VALUE=DATE-TIME:20230529T140000
DTSTAMP;VALUE=DATE-TIME:20260424T202616Z
UID:7746e7a5b91e42f98668846eab876d56@www.franciscobeltrao.pr.leg.br
CREATED;VALUE=DATE-TIME:20230526T202744Z
LAST-MODIFIED;VALUE=DATE-TIME:20230526T202812Z
URL:https://www.franciscobeltrao.pr.leg.br/institucional/eventos/reuniao-d
 e-comissao-permanente-de-educacao-cultura-e-esportes-1
END:VEVENT
BEGIN:VTIMEZONE
TZID:Brazil/East
X-LIC-LOCATION:Brazil/East
BEGIN:STANDARD
DTSTART;VALUE=DATE-TIME:20230225T230000
TZNAME:BRT
TZOFFSETFROM:-0200
TZOFFSETTO:-0300
END:STANDARD
END:VTIMEZONE
END:VCALENDAR
