BEGIN:VCALENDAR
VERSION:2.0
PRODID:-//Plone.org//NONSGML plone.app.event//EN
X-WR-TIMEZONE:Brazil/East
BEGIN:VEVENT
SUMMARY:Reunião da Comissão Permanente de Saúde\, Bem-Estar e Meio Ambi
 ente
DTSTART;TZID=Brazil/East;VALUE=DATE-TIME:20230530T133000
DTEND;TZID=Brazil/East;VALUE=DATE-TIME:20230530T135000
DTSTAMP;VALUE=DATE-TIME:20260424T043625Z
UID:a7fef8280f054870b84c590df0ab53d2@www.franciscobeltrao.pr.leg.br
CREATED;VALUE=DATE-TIME:20230529T194027Z
LAST-MODIFIED;VALUE=DATE-TIME:20230529T194044Z
URL:https://www.franciscobeltrao.pr.leg.br/institucional/eventos/reuniao-d
 a-comissao-permanente-de-saude-bem-estar-e-meio-ambiente
END:VEVENT
BEGIN:VTIMEZONE
TZID:Brazil/East
X-LIC-LOCATION:Brazil/East
BEGIN:STANDARD
DTSTART;VALUE=DATE-TIME:20230225T230000
TZNAME:BRT
TZOFFSETFROM:-0200
TZOFFSETTO:-0300
END:STANDARD
END:VTIMEZONE
END:VCALENDAR
