BEGIN:VCALENDAR
VERSION:2.0
PRODID:-//Plone.org//NONSGML plone.app.event//EN
X-WR-TIMEZONE:Brazil/East
BEGIN:VEVENT
SUMMARY:Reunião da Comissão Permanente de Redação e Justiça
DTSTART;TZID=Brazil/East;VALUE=DATE-TIME:20230629T130000
DTEND;TZID=Brazil/East;VALUE=DATE-TIME:20230629T140000
DTSTAMP;VALUE=DATE-TIME:20260425T190953Z
UID:b65d44cb805346a9bad31c5c02138d2d@www.franciscobeltrao.pr.leg.br
ATTENDEE;CN="Ronaldo Bizotto; Jean Emiliano e Junior Nesi.";ROLE=REQ-PARTI
 CIPANT:Ronaldo Bizotto; Jean Emiliano e Junior Nesi.
CREATED;VALUE=DATE-TIME:20230628T192830Z
LAST-MODIFIED;VALUE=DATE-TIME:20230628T192835Z
URL:https://www.franciscobeltrao.pr.leg.br/institucional/eventos/reuniao-d
 a-comissao-permanente-de-redacao-e-justica-3
END:VEVENT
BEGIN:VTIMEZONE
TZID:Brazil/East
X-LIC-LOCATION:Brazil/East
BEGIN:STANDARD
DTSTART;VALUE=DATE-TIME:20230225T230000
TZNAME:BRT
TZOFFSETFROM:-0200
TZOFFSETTO:-0300
END:STANDARD
END:VTIMEZONE
END:VCALENDAR
