BEGIN:VCALENDAR
VERSION:2.0
PRODID:-//Plone.org//NONSGML plone.app.event//EN
X-WR-TIMEZONE:Brazil/East
BEGIN:VEVENT
SUMMARY:Reunião da Comissão Permanente de Redação e Justiça
DTSTART;TZID=Brazil/East;VALUE=DATE-TIME:20230615T133000
DTEND;TZID=Brazil/East;VALUE=DATE-TIME:20230615T143000
DTSTAMP;VALUE=DATE-TIME:20260425T112956Z
UID:b00298e908cb49e3869beab5e475c429@www.franciscobeltrao.pr.leg.br
CREATED;VALUE=DATE-TIME:20230615T161507Z
LAST-MODIFIED;VALUE=DATE-TIME:20230615T161513Z
URL:https://www.franciscobeltrao.pr.leg.br/institucional/eventos/reuniao-d
 a-comissao-permanente-de-redacao-e-justica-1
END:VEVENT
BEGIN:VTIMEZONE
TZID:Brazil/East
X-LIC-LOCATION:Brazil/East
BEGIN:STANDARD
DTSTART;VALUE=DATE-TIME:20230225T230000
TZNAME:BRT
TZOFFSETFROM:-0200
TZOFFSETTO:-0300
END:STANDARD
END:VTIMEZONE
END:VCALENDAR
