BEGIN:VCALENDAR
VERSION:2.0
PRODID:-//Plone.org//NONSGML plone.app.event//EN
X-WR-TIMEZONE:Brazil/East
BEGIN:VEVENT
SUMMARY:Reunião da Comissão Permanente de Infraestrutura Municipal
DTSTART;TZID=Brazil/East;VALUE=DATE-TIME:20230619T110000
DTEND;TZID=Brazil/East;VALUE=DATE-TIME:20230619T113000
DTSTAMP;VALUE=DATE-TIME:20260424T124149Z
UID:406d08fb75b64caea1e01c1ad28d55c7@www.franciscobeltrao.pr.leg.br
CREATED;VALUE=DATE-TIME:20230616T201612Z
LAST-MODIFIED;VALUE=DATE-TIME:20230616T201617Z
URL:https://www.franciscobeltrao.pr.leg.br/institucional/eventos/reuniao-d
 a-comissao-permanente-de-infraestrutura-municipal
END:VEVENT
BEGIN:VTIMEZONE
TZID:Brazil/East
X-LIC-LOCATION:Brazil/East
BEGIN:STANDARD
DTSTART;VALUE=DATE-TIME:20230225T230000
TZNAME:BRT
TZOFFSETFROM:-0200
TZOFFSETTO:-0300
END:STANDARD
END:VTIMEZONE
END:VCALENDAR
