BEGIN:VCALENDAR
VERSION:2.0
PRODID:-//Plone.org//NONSGML plone.app.event//EN
X-WR-TIMEZONE:Brazil/East
BEGIN:VEVENT
SUMMARY:Reunião da Comissão Permanente de Finanças e Orçamentos
DTSTART;TZID=Brazil/East;VALUE=DATE-TIME:20230704T110000
DTEND;TZID=Brazil/East;VALUE=DATE-TIME:20230704T120000
DTSTAMP;VALUE=DATE-TIME:20260425T190958Z
UID:07646ecc82ef40c398820335170cb9ea@www.franciscobeltrao.pr.leg.br
ATTENDEE;CN="Quintino Girardi; Silmar Gallina e Pedro Tufão Filho";ROLE=R
 EQ-PARTICIPANT:Quintino Girardi; Silmar Gallina e Pedro Tufão Filho
CREATED;VALUE=DATE-TIME:20230704T124805Z
LAST-MODIFIED;VALUE=DATE-TIME:20230704T124809Z
URL:https://www.franciscobeltrao.pr.leg.br/institucional/eventos/reuniao-d
 a-comissao-permanente-de-financas-e-orcamentos-3
END:VEVENT
BEGIN:VTIMEZONE
TZID:Brazil/East
X-LIC-LOCATION:Brazil/East
BEGIN:STANDARD
DTSTART;VALUE=DATE-TIME:20230225T230000
TZNAME:BRT
TZOFFSETFROM:-0200
TZOFFSETTO:-0300
END:STANDARD
END:VTIMEZONE
END:VCALENDAR
