BEGIN:VCALENDAR
VERSION:2.0
PRODID:-//Plone.org//NONSGML plone.app.event//EN
X-WR-TIMEZONE:Brazil/East
BEGIN:VEVENT
SUMMARY:Reunião Comissão Especial
DTSTART;TZID=Brazil/East;VALUE=DATE-TIME:20230906T153000
DTEND;TZID=Brazil/East;VALUE=DATE-TIME:20230906T160000
DTSTAMP;VALUE=DATE-TIME:20260424T012729Z
UID:b0a285bb64204be8a1852d163a41fb91@www.franciscobeltrao.pr.leg.br
CREATED;VALUE=DATE-TIME:20230906T180453Z
LAST-MODIFIED;VALUE=DATE-TIME:20230906T180457Z
URL:https://www.franciscobeltrao.pr.leg.br/institucional/eventos/reuniao-c
 omissao-especial
END:VEVENT
BEGIN:VTIMEZONE
TZID:Brazil/East
X-LIC-LOCATION:Brazil/East
BEGIN:STANDARD
DTSTART;VALUE=DATE-TIME:20230225T230000
TZNAME:BRT
TZOFFSETFROM:-0200
TZOFFSETTO:-0300
END:STANDARD
END:VTIMEZONE
END:VCALENDAR
