BEGIN:VCALENDAR
VERSION:2.0
PRODID:-//Plone.org//NONSGML plone.app.event//EN
X-WR-TIMEZONE:Brazil/East
BEGIN:VEVENT
SUMMARY:Audiência Pública: Avaliação das Metas Fiscais do 1º Quadrime
 stre de 2023
DTSTART;TZID=Brazil/East;VALUE=DATE-TIME:20230530T093000
DTEND;TZID=Brazil/East;VALUE=DATE-TIME:20230530T103000
DTSTAMP;VALUE=DATE-TIME:20260425T113801Z
UID:15d356ac891f4ba19956a1a282e827dc@www.franciscobeltrao.pr.leg.br
CREATED;VALUE=DATE-TIME:20230529T123700Z
LAST-MODIFIED;VALUE=DATE-TIME:20230529T123836Z
URL:https://www.franciscobeltrao.pr.leg.br/institucional/eventos/audiencia
 -publica-avaliacao-das-metas-fiscais-do-1o-quadrimestre-de-2023
END:VEVENT
BEGIN:VTIMEZONE
TZID:Brazil/East
X-LIC-LOCATION:Brazil/East
BEGIN:STANDARD
DTSTART;VALUE=DATE-TIME:20230225T230000
TZNAME:BRT
TZOFFSETFROM:-0200
TZOFFSETTO:-0300
END:STANDARD
END:VTIMEZONE
END:VCALENDAR
