BEGIN:VCALENDAR
VERSION:2.0
PRODID:-//Plone.org//NONSGML plone.app.event//EN
X-WR-TIMEZONE:Brazil/East
BEGIN:VEVENT
SUMMARY:6ª Reunião Ordinária de Comissão de Saúde\, bem-estar e meio 
 ambiente. 
DTSTART;TZID=Brazil/East;VALUE=DATE-TIME:20230904T133000
DTEND;TZID=Brazil/East;VALUE=DATE-TIME:20230904T143000
DTSTAMP;VALUE=DATE-TIME:20260424T135126Z
UID:3b969138f5014f63b3c65166e4c816d9@www.franciscobeltrao.pr.leg.br
CREATED;VALUE=DATE-TIME:20230830T173736Z
LAST-MODIFIED;VALUE=DATE-TIME:20230904T142625Z
URL:https://www.franciscobeltrao.pr.leg.br/institucional/eventos/6a-reunia
 o-de-comissao-de-saude-bem-estar-e-meio-ambiente
END:VEVENT
BEGIN:VTIMEZONE
TZID:Brazil/East
X-LIC-LOCATION:Brazil/East
BEGIN:STANDARD
DTSTART;VALUE=DATE-TIME:20230225T230000
TZNAME:BRT
TZOFFSETFROM:-0200
TZOFFSETTO:-0300
END:STANDARD
END:VTIMEZONE
END:VCALENDAR
