BEGIN:VCALENDAR
VERSION:2.0
PRODID:-//Plone.org//NONSGML plone.app.event//EN
X-WR-TIMEZONE:Brazil/East
BEGIN:VEVENT
SUMMARY:4ª Reunião de Comissão de Saude\, Bem Estar  e Meio Ambiente. 
DTSTART;TZID=Brazil/East;VALUE=DATE-TIME:20230821T133000
DTEND;TZID=Brazil/East;VALUE=DATE-TIME:20230821T143000
DTSTAMP;VALUE=DATE-TIME:20260424T030819Z
UID:cca307c429744c64be42a41b26b6e3f3@www.franciscobeltrao.pr.leg.br
CREATED;VALUE=DATE-TIME:20230816T131134Z
LAST-MODIFIED;VALUE=DATE-TIME:20230818T145011Z
URL:https://www.franciscobeltrao.pr.leg.br/institucional/eventos/4a-reunia
 o-de-comissao-de-saude-bem-estar-e-meio-ambiente
END:VEVENT
BEGIN:VTIMEZONE
TZID:Brazil/East
X-LIC-LOCATION:Brazil/East
BEGIN:STANDARD
DTSTART;VALUE=DATE-TIME:20230225T230000
TZNAME:BRT
TZOFFSETFROM:-0200
TZOFFSETTO:-0300
END:STANDARD
END:VTIMEZONE
END:VCALENDAR
