BEGIN:VCALENDAR
VERSION:2.0
PRODID:-//Plone.org//NONSGML plone.app.event//EN
X-WR-TIMEZONE:Brazil/East
BEGIN:VEVENT
SUMMARY:33ª Reunião da Comissão de Redação e Justiça
DTSTART;TZID=Brazil/East;VALUE=DATE-TIME:20231128T151500
DTEND;TZID=Brazil/East;VALUE=DATE-TIME:20231128T161500
DTSTAMP;VALUE=DATE-TIME:20260424T013038Z
UID:9adcd4c2023b4815b05b6d52f438ef55@www.franciscobeltrao.pr.leg.br
CREATED;VALUE=DATE-TIME:20231127T203308Z
LAST-MODIFIED;VALUE=DATE-TIME:20231127T203313Z
URL:https://www.franciscobeltrao.pr.leg.br/institucional/eventos/33a-reuni
 ao-da-comissao-de-redacao-e-justica
END:VEVENT
BEGIN:VTIMEZONE
TZID:Brazil/East
X-LIC-LOCATION:Brazil/East
BEGIN:DAYLIGHT
DTSTART;VALUE=DATE-TIME:20231015T010000
TZNAME:BRST
TZOFFSETFROM:-0300
TZOFFSETTO:-0200
END:DAYLIGHT
END:VTIMEZONE
END:VCALENDAR
