BEGIN:VCALENDAR
VERSION:2.0
PRODID:-//Plone.org//NONSGML plone.app.event//EN
X-WR-TIMEZONE:Brazil/East
BEGIN:VEVENT
SUMMARY:32ª Reunião Ordinária da Comissão de Redação e Justiça
DTSTART;TZID=Brazil/East;VALUE=DATE-TIME:20231120T151500
DTEND;TZID=Brazil/East;VALUE=DATE-TIME:20231120T154000
DTSTAMP;VALUE=DATE-TIME:20260424T043620Z
UID:785daa964dca467c9ae2934b3519f843@www.franciscobeltrao.pr.leg.br
CREATED;VALUE=DATE-TIME:20231117T151749Z
LAST-MODIFIED;VALUE=DATE-TIME:20231117T151754Z
URL:https://www.franciscobeltrao.pr.leg.br/institucional/eventos/32a-reuni
 ao-ordinaria-da-comissao-de-redacao-e-justica
END:VEVENT
BEGIN:VTIMEZONE
TZID:Brazil/East
X-LIC-LOCATION:Brazil/East
BEGIN:DAYLIGHT
DTSTART;VALUE=DATE-TIME:20231015T010000
TZNAME:BRST
TZOFFSETFROM:-0300
TZOFFSETTO:-0200
END:DAYLIGHT
END:VTIMEZONE
END:VCALENDAR
