BEGIN:VCALENDAR
VERSION:2.0
PRODID:-//Plone.org//NONSGML plone.app.event//EN
X-WR-TIMEZONE:Brazil/East
BEGIN:VEVENT
SUMMARY:31ª Reunião Ordinaria da Comissão de Redação e Justiça
DTSTART;TZID=Brazil/East;VALUE=DATE-TIME:20231109T133000
DTEND;TZID=Brazil/East;VALUE=DATE-TIME:20231109T140000
DTSTAMP;VALUE=DATE-TIME:20260424T043655Z
UID:e740868dc1494d368374425cc9a97ca7@www.franciscobeltrao.pr.leg.br
CREATED;VALUE=DATE-TIME:20231107T185458Z
LAST-MODIFIED;VALUE=DATE-TIME:20231107T185503Z
URL:https://www.franciscobeltrao.pr.leg.br/institucional/eventos/31a-reuni
 ao-ordinaria-da-comissao-de-redacao-e-justica
END:VEVENT
BEGIN:VTIMEZONE
TZID:Brazil/East
X-LIC-LOCATION:Brazil/East
BEGIN:DAYLIGHT
DTSTART;VALUE=DATE-TIME:20231015T010000
TZNAME:BRST
TZOFFSETFROM:-0300
TZOFFSETTO:-0200
END:DAYLIGHT
END:VTIMEZONE
END:VCALENDAR
