BEGIN:VCALENDAR
VERSION:2.0
PRODID:-//Plone.org//NONSGML plone.app.event//EN
X-WR-TIMEZONE:Brazil/East
BEGIN:VEVENT
SUMMARY:2ª Reunião Ordinaria da Comissão de Defesa e Proteção dos Dir
 eitos dos Animais 
DTSTART;TZID=Brazil/East;VALUE=DATE-TIME:20231110T113000
DTEND;TZID=Brazil/East;VALUE=DATE-TIME:20231110T120000
DTSTAMP;VALUE=DATE-TIME:20260424T043643Z
UID:790c4cd1d45c4cd8be754f3bcfa743cf@www.franciscobeltrao.pr.leg.br
CREATED;VALUE=DATE-TIME:20231109T134451Z
LAST-MODIFIED;VALUE=DATE-TIME:20231109T134455Z
URL:https://www.franciscobeltrao.pr.leg.br/institucional/eventos/2a-reunia
 o-ordinaria-da-comissao-de-defesa-e-protecao-dos-direitos-dos-animais
END:VEVENT
BEGIN:VTIMEZONE
TZID:Brazil/East
X-LIC-LOCATION:Brazil/East
BEGIN:DAYLIGHT
DTSTART;VALUE=DATE-TIME:20231015T010000
TZNAME:BRST
TZOFFSETFROM:-0300
TZOFFSETTO:-0200
END:DAYLIGHT
END:VTIMEZONE
END:VCALENDAR
