BEGIN:VCALENDAR
VERSION:2.0
PRODID:-//Plone.org//NONSGML plone.app.event//EN
X-WR-TIMEZONE:Brazil/East
BEGIN:VEVENT
SUMMARY:2ª Reunião de Comissão dos Direitos dos Animais 
DTSTART;TZID=Brazil/East;VALUE=DATE-TIME:20240419T113000
DTEND;TZID=Brazil/East;VALUE=DATE-TIME:20240419T120000
DTSTAMP;VALUE=DATE-TIME:20260424T013036Z
UID:e36e59fbeb484493b5a5989b1828a46e@www.franciscobeltrao.pr.leg.br
CREATED;VALUE=DATE-TIME:20240419T140013Z
LAST-MODIFIED;VALUE=DATE-TIME:20240419T140017Z
URL:https://www.franciscobeltrao.pr.leg.br/institucional/eventos/2a-reunia
 o-de-comissao-dos-direitos-dos-animais
END:VEVENT
BEGIN:VTIMEZONE
TZID:Brazil/East
X-LIC-LOCATION:Brazil/East
BEGIN:STANDARD
DTSTART;VALUE=DATE-TIME:20240217T230000
TZNAME:BRT
TZOFFSETFROM:-0200
TZOFFSETTO:-0300
END:STANDARD
END:VTIMEZONE
END:VCALENDAR
