BEGIN:VCALENDAR
VERSION:2.0
PRODID:-//Plone.org//NONSGML plone.app.event//EN
X-WR-TIMEZONE:Brazil/East
BEGIN:VEVENT
SUMMARY:24ª Reunião Ordinária da Comissão de Redação e Justiça
DTSTART;TZID=Brazil/East;VALUE=DATE-TIME:20241219T133000
DTEND;TZID=Brazil/East;VALUE=DATE-TIME:20241219T143000
DTSTAMP;VALUE=DATE-TIME:20260425T112946Z
UID:d8febf2078a942dc9c150d48c3524f24@www.franciscobeltrao.pr.leg.br
CREATED;VALUE=DATE-TIME:20241219T124334Z
LAST-MODIFIED;VALUE=DATE-TIME:20241219T124337Z
URL:https://www.franciscobeltrao.pr.leg.br/institucional/eventos/24a-reuni
 ao-ordinaria-da-comissao-de-redacao-e-justica-1
END:VEVENT
BEGIN:VTIMEZONE
TZID:Brazil/East
X-LIC-LOCATION:Brazil/East
BEGIN:DAYLIGHT
DTSTART;VALUE=DATE-TIME:20241020T010000
TZNAME:BRST
TZOFFSETFROM:-0300
TZOFFSETTO:-0200
END:DAYLIGHT
END:VTIMEZONE
END:VCALENDAR
