BEGIN:VCALENDAR
VERSION:2.0
PRODID:-//Plone.org//NONSGML plone.app.event//EN
X-WR-TIMEZONE:Brazil/East
BEGIN:VEVENT
SUMMARY:21ª Reunião Ordinária da Comissão de Redação e Justiça
DTSTART;TZID=Brazil/East;VALUE=DATE-TIME:20241202T153000
DTEND;TZID=Brazil/East;VALUE=DATE-TIME:20241202T163000
DTSTAMP;VALUE=DATE-TIME:20260421T172337Z
UID:bc4028d8be804fdca368b11dcb6e4182@www.franciscobeltrao.pr.leg.br
CREATED;VALUE=DATE-TIME:20241202T122638Z
LAST-MODIFIED;VALUE=DATE-TIME:20241202T135303Z
URL:https://www.franciscobeltrao.pr.leg.br/institucional/eventos/21a-reuni
 ao-ordinaria-da-comissao-de-redacao-e-justica
END:VEVENT
BEGIN:VTIMEZONE
TZID:Brazil/East
X-LIC-LOCATION:Brazil/East
BEGIN:DAYLIGHT
DTSTART;VALUE=DATE-TIME:20241020T010000
TZNAME:BRST
TZOFFSETFROM:-0300
TZOFFSETTO:-0200
END:DAYLIGHT
END:VTIMEZONE
END:VCALENDAR
