BEGIN:VCALENDAR
VERSION:2.0
PRODID:-//Plone.org//NONSGML plone.app.event//EN
X-WR-TIMEZONE:Brazil/East
BEGIN:VEVENT
SUMMARY:21ª Reunião de Comissão de Redação e Justiça 
DTSTART;TZID=Brazil/East;VALUE=DATE-TIME:20230818T133000
DTEND;TZID=Brazil/East;VALUE=DATE-TIME:20230818T143000
DTSTAMP;VALUE=DATE-TIME:20260424T121035Z
UID:969743d42fa844a49f0f8607944ddd79@www.franciscobeltrao.pr.leg.br
CREATED;VALUE=DATE-TIME:20230816T130954Z
LAST-MODIFIED;VALUE=DATE-TIME:20230818T145007Z
URL:https://www.franciscobeltrao.pr.leg.br/institucional/eventos/21a-reuni
 ao-de-comissao-de-redacao-e-justica
END:VEVENT
BEGIN:VTIMEZONE
TZID:Brazil/East
X-LIC-LOCATION:Brazil/East
BEGIN:STANDARD
DTSTART;VALUE=DATE-TIME:20230225T230000
TZNAME:BRT
TZOFFSETFROM:-0200
TZOFFSETTO:-0300
END:STANDARD
END:VTIMEZONE
END:VCALENDAR
