BEGIN:VCALENDAR
VERSION:2.0
PRODID:-//Plone.org//NONSGML plone.app.event//EN
X-WR-TIMEZONE:Brazil/East
BEGIN:VEVENT
SUMMARY:20ª SESSÃO ORDINÁRIA DA SESSÃO LEGISLATIVA DE 2020
DTSTART;TZID=Brazil/East;VALUE=DATE-TIME:20200525T183000
DTEND;TZID=Brazil/East;VALUE=DATE-TIME:20200525T190000
DTSTAMP;VALUE=DATE-TIME:20260424T184402Z
UID:6a6766c8ae504b85a81757cfc48871ab@franciscobeltrao.pr.leg.br
CREATED;VALUE=DATE-TIME:20200521T130906Z
DESCRIPTION:ORDEM DO DIA PARA SESSÃO ORDINÁRIA DO DIA 25 DE MAIO DE 2020
LAST-MODIFIED;VALUE=DATE-TIME:20200521T131101Z
URL:https://www.franciscobeltrao.pr.leg.br/institucional/eventos/20a-sessa
 o-ordinaria-da-sessao-legislativa-de-2020-1
END:VEVENT
BEGIN:VTIMEZONE
TZID:Brazil/East
X-LIC-LOCATION:Brazil/East
BEGIN:STANDARD
DTSTART;VALUE=DATE-TIME:20200215T230000
TZNAME:BRT
TZOFFSETFROM:-0200
TZOFFSETTO:-0300
END:STANDARD
END:VTIMEZONE
END:VCALENDAR
