BEGIN:VCALENDAR
VERSION:2.0
PRODID:-//Plone.org//NONSGML plone.app.event//EN
X-WR-TIMEZONE:Brazil/East
BEGIN:VEVENT
SUMMARY:19ª Reunião Ordinária da Comissão de Finanças e Orçamentos
DTSTART;TZID=Brazil/East;VALUE=DATE-TIME:20231006T110000
DTEND;TZID=Brazil/East;VALUE=DATE-TIME:20231006T120000
DTSTAMP;VALUE=DATE-TIME:20260424T043628Z
UID:4346c86bd59941eebfab4d8ffaac6f0e@www.franciscobeltrao.pr.leg.br
CREATED;VALUE=DATE-TIME:20231005T184913Z
LAST-MODIFIED;VALUE=DATE-TIME:20231005T184919Z
URL:https://www.franciscobeltrao.pr.leg.br/institucional/eventos/19a-reuni
 ao-ordinaria-da-comissao-de-financas-e-orcamentos
END:VEVENT
BEGIN:VTIMEZONE
TZID:Brazil/East
X-LIC-LOCATION:Brazil/East
BEGIN:STANDARD
DTSTART;VALUE=DATE-TIME:20230225T230000
TZNAME:BRT
TZOFFSETFROM:-0200
TZOFFSETTO:-0300
END:STANDARD
END:VTIMEZONE
END:VCALENDAR
