BEGIN:VCALENDAR
VERSION:2.0
PRODID:-//Plone.org//NONSGML plone.app.event//EN
X-WR-TIMEZONE:Brazil/East
BEGIN:VEVENT
SUMMARY:17ª Reunião Ordinária da Comissão de Finanças e Orçamentos 
DTSTART;TZID=Brazil/East;VALUE=DATE-TIME:20241216T093000
DTEND;TZID=Brazil/East;VALUE=DATE-TIME:20241216T100000
DTSTAMP;VALUE=DATE-TIME:20260421T074307Z
UID:98cce3abc61d406fa823a2798b516ec1@www.franciscobeltrao.pr.leg.br
CREATED;VALUE=DATE-TIME:20241216T121004Z
LAST-MODIFIED;VALUE=DATE-TIME:20241216T121008Z
URL:https://www.franciscobeltrao.pr.leg.br/institucional/eventos/17a-reuni
 ao-ordinaria-da-comissao-de-financas-e-orcamentos
END:VEVENT
BEGIN:VTIMEZONE
TZID:Brazil/East
X-LIC-LOCATION:Brazil/East
BEGIN:DAYLIGHT
DTSTART;VALUE=DATE-TIME:20241020T010000
TZNAME:BRST
TZOFFSETFROM:-0300
TZOFFSETTO:-0200
END:DAYLIGHT
END:VTIMEZONE
END:VCALENDAR
