BEGIN:VCALENDAR
VERSION:2.0
PRODID:-//Plone.org//NONSGML plone.app.event//EN
X-WR-TIMEZONE:Brazil/East
BEGIN:VEVENT
SUMMARY:16ª Reunião Ordinária da Comissão de Finanças e Orçamentos 
DTSTART;TZID=Brazil/East;VALUE=DATE-TIME:20241206T131500
DTEND;TZID=Brazil/East;VALUE=DATE-TIME:20241206T140100
DTSTAMP;VALUE=DATE-TIME:20260421T074307Z
UID:e616cf4f20ca42aa8b8c601149db260e@www.franciscobeltrao.pr.leg.br
CREATED;VALUE=DATE-TIME:20241205T202753Z
LAST-MODIFIED;VALUE=DATE-TIME:20241205T202756Z
URL:https://www.franciscobeltrao.pr.leg.br/institucional/eventos/16a-reuni
 ao-ordinaria-da-comissao-de-financas-e-orcamentos
END:VEVENT
BEGIN:VTIMEZONE
TZID:Brazil/East
X-LIC-LOCATION:Brazil/East
BEGIN:DAYLIGHT
DTSTART;VALUE=DATE-TIME:20241020T010000
TZNAME:BRST
TZOFFSETFROM:-0300
TZOFFSETTO:-0200
END:DAYLIGHT
END:VTIMEZONE
END:VCALENDAR
