BEGIN:VCALENDAR
VERSION:2.0
PRODID:-//Plone.org//NONSGML plone.app.event//EN
X-WR-TIMEZONE:Brazil/East
BEGIN:VEVENT
SUMMARY:15ª Reunião Ordinária da Comissão de Redação e Justiça
DTSTART;TZID=Brazil/East;VALUE=DATE-TIME:20240806T110000
DTEND;TZID=Brazil/East;VALUE=DATE-TIME:20240806T120000
DTSTAMP;VALUE=DATE-TIME:20260424T090521Z
UID:a3b12648d8fe48d6b6af7c509301d863@www.franciscobeltrao.pr.leg.br
CREATED;VALUE=DATE-TIME:20240806T123032Z
LAST-MODIFIED;VALUE=DATE-TIME:20240806T123043Z
URL:https://www.franciscobeltrao.pr.leg.br/institucional/eventos/15a-reuni
 ao-ordinaria-da-comissao-de-redacao-e-justica
END:VEVENT
BEGIN:VTIMEZONE
TZID:Brazil/East
X-LIC-LOCATION:Brazil/East
BEGIN:STANDARD
DTSTART;VALUE=DATE-TIME:20240217T230000
TZNAME:BRT
TZOFFSETFROM:-0200
TZOFFSETTO:-0300
END:STANDARD
END:VTIMEZONE
END:VCALENDAR
