BEGIN:VCALENDAR
VERSION:2.0
PRODID:-//Plone.org//NONSGML plone.app.event//EN
X-WR-TIMEZONE:Brazil/East
BEGIN:VEVENT
SUMMARY:14ª Reunião Ordinária da Comissão de Infraestrutura Municipal
DTSTART;TZID=Brazil/East;VALUE=DATE-TIME:20241219T113000
DTEND;TZID=Brazil/East;VALUE=DATE-TIME:20241219T123000
DTSTAMP;VALUE=DATE-TIME:20260421T074559Z
UID:62b886f8be4a4355812ff9f946569858@www.franciscobeltrao.pr.leg.br
CREATED;VALUE=DATE-TIME:20241219T124300Z
LAST-MODIFIED;VALUE=DATE-TIME:20241219T124305Z
URL:https://www.franciscobeltrao.pr.leg.br/institucional/eventos/14a-reuni
 ao-ordinaria-da-comissao-de-infraestrutura-municipal
END:VEVENT
BEGIN:VTIMEZONE
TZID:Brazil/East
X-LIC-LOCATION:Brazil/East
BEGIN:DAYLIGHT
DTSTART;VALUE=DATE-TIME:20241020T010000
TZNAME:BRST
TZOFFSETFROM:-0300
TZOFFSETTO:-0200
END:DAYLIGHT
END:VTIMEZONE
END:VCALENDAR
