BEGIN:VCALENDAR
VERSION:2.0
PRODID:-//Plone.org//NONSGML plone.app.event//EN
X-WR-TIMEZONE:Brazil/East
BEGIN:VEVENT
SUMMARY:14ª Reunião Ordinária da Comissão de Finanças e Orçamentos 
DTSTART;TZID=Brazil/East;VALUE=DATE-TIME:20241104T133000
DTEND;TZID=Brazil/East;VALUE=DATE-TIME:20241104T140000
DTSTAMP;VALUE=DATE-TIME:20260424T043626Z
UID:e3664c3eac244154b14853a5484241a7@www.franciscobeltrao.pr.leg.br
CREATED;VALUE=DATE-TIME:20241104T130549Z
LAST-MODIFIED;VALUE=DATE-TIME:20241104T130552Z
URL:https://www.franciscobeltrao.pr.leg.br/institucional/eventos/14a-reuni
 ao-ordinaria-da-comissao-de-financas-e-orcamentos
END:VEVENT
BEGIN:VTIMEZONE
TZID:Brazil/East
X-LIC-LOCATION:Brazil/East
BEGIN:DAYLIGHT
DTSTART;VALUE=DATE-TIME:20241020T010000
TZNAME:BRST
TZOFFSETFROM:-0300
TZOFFSETTO:-0200
END:DAYLIGHT
END:VTIMEZONE
END:VCALENDAR
