BEGIN:VCALENDAR
VERSION:2.0
PRODID:-//Plone.org//NONSGML plone.app.event//EN
X-WR-TIMEZONE:Brazil/East
BEGIN:VEVENT
SUMMARY:15ª Reunião de Comissão de Infraestrutura Municipal
DTSTART;TZID=Brazil/East;VALUE=DATE-TIME:20231212T160000
DTEND;TZID=Brazil/East;VALUE=DATE-TIME:20231212T170000
DTSTAMP;VALUE=DATE-TIME:20260424T220113Z
UID:358f63dd56ea48b18f4ee4e218ec98ff@www.franciscobeltrao.pr.leg.br
CREATED;VALUE=DATE-TIME:20231211T162013Z
LAST-MODIFIED;VALUE=DATE-TIME:20231212T152905Z
URL:https://www.franciscobeltrao.pr.leg.br/institucional/eventos/14a-reuni
 ao-de-comissao-de-redacao-e-justica
END:VEVENT
BEGIN:VTIMEZONE
TZID:Brazil/East
X-LIC-LOCATION:Brazil/East
BEGIN:DAYLIGHT
DTSTART;VALUE=DATE-TIME:20231015T010000
TZNAME:BRST
TZOFFSETFROM:-0300
TZOFFSETTO:-0200
END:DAYLIGHT
END:VTIMEZONE
END:VCALENDAR
