BEGIN:VCALENDAR
VERSION:2.0
PRODID:-//Plone.org//NONSGML plone.app.event//EN
X-WR-TIMEZONE:Brazil/East
BEGIN:VEVENT
SUMMARY:13ª Reunião de Comissão de Infraestrutura Municipal 
DTSTART;TZID=Brazil/East;VALUE=DATE-TIME:20231207T133000
DTEND;TZID=Brazil/East;VALUE=DATE-TIME:20231207T134000
DTSTAMP;VALUE=DATE-TIME:20260424T030115Z
UID:52d787810eb64c1bb8e5b4cbe491be7f@www.franciscobeltrao.pr.leg.br
CREATED;VALUE=DATE-TIME:20231206T193524Z
LAST-MODIFIED;VALUE=DATE-TIME:20231206T193527Z
URL:https://www.franciscobeltrao.pr.leg.br/institucional/eventos/13a-reuni
 ao-de-comissao-de-infraestrutura-municipal
END:VEVENT
BEGIN:VTIMEZONE
TZID:Brazil/East
X-LIC-LOCATION:Brazil/East
BEGIN:DAYLIGHT
DTSTART;VALUE=DATE-TIME:20231015T010000
TZNAME:BRST
TZOFFSETFROM:-0300
TZOFFSETTO:-0200
END:DAYLIGHT
END:VTIMEZONE
END:VCALENDAR
