BEGIN:VCALENDAR
VERSION:2.0
PRODID:-//Plone.org//NONSGML plone.app.event//EN
X-WR-TIMEZONE:Brazil/East
BEGIN:VEVENT
SUMMARY:11ª Reunião Ordinária da Comissão de Redação e Justiça
DTSTART;TZID=Brazil/East;VALUE=DATE-TIME:20240610T133000
DTEND;TZID=Brazil/East;VALUE=DATE-TIME:20240610T140000
DTSTAMP;VALUE=DATE-TIME:20260424T043656Z
UID:10a685e51f514817b47117389019da60@www.franciscobeltrao.pr.leg.br
CREATED;VALUE=DATE-TIME:20240606T165250Z
LAST-MODIFIED;VALUE=DATE-TIME:20240606T165255Z
URL:https://www.franciscobeltrao.pr.leg.br/institucional/eventos/11a-reuni
 ao-ordinaria-da-comissao-de-redacao-e-justica
END:VEVENT
BEGIN:VTIMEZONE
TZID:Brazil/East
X-LIC-LOCATION:Brazil/East
BEGIN:STANDARD
DTSTART;VALUE=DATE-TIME:20240217T230000
TZNAME:BRT
TZOFFSETFROM:-0200
TZOFFSETTO:-0300
END:STANDARD
END:VTIMEZONE
END:VCALENDAR
