BEGIN:VCALENDAR
VERSION:2.0
PRODID:-//Plone.org//NONSGML plone.app.event//EN
X-WR-TIMEZONE:Brazil/East
BEGIN:VEVENT
SUMMARY:11ª Reunião Ordinária da Comissão de Redação e Justiça
DTSTART;TZID=Brazil/East;VALUE=DATE-TIME:20240624T103000
DTEND;TZID=Brazil/East;VALUE=DATE-TIME:20240624T104500
DTSTAMP;VALUE=DATE-TIME:20260424T043647Z
UID:359531c780dc4ee7a1fa170453e37e92@www.franciscobeltrao.pr.leg.br
CREATED;VALUE=DATE-TIME:20240614T165115Z
LAST-MODIFIED;VALUE=DATE-TIME:20240621T140944Z
URL:https://www.franciscobeltrao.pr.leg.br/institucional/eventos/11a-reuni
 ao-ordinaria-da-comissao-de-redacao-e-justica-1
END:VEVENT
BEGIN:VTIMEZONE
TZID:Brazil/East
X-LIC-LOCATION:Brazil/East
BEGIN:STANDARD
DTSTART;VALUE=DATE-TIME:20240217T230000
TZNAME:BRT
TZOFFSETFROM:-0200
TZOFFSETTO:-0300
END:STANDARD
END:VTIMEZONE
END:VCALENDAR
