BEGIN:VCALENDAR
VERSION:2.0
PRODID:-//Plone.org//NONSGML plone.app.event//EN
X-WR-TIMEZONE:Brazil/East
BEGIN:VEVENT
SUMMARY:11ª Reunião da Comissão de Infraestrutura Municipal
DTSTART;TZID=Brazil/East;VALUE=DATE-TIME:20231128T151000
DTEND;TZID=Brazil/East;VALUE=DATE-TIME:20231128T151500
DTSTAMP;VALUE=DATE-TIME:20260424T030117Z
UID:a85c7cd8bb6941619e079d935d08af56@www.franciscobeltrao.pr.leg.br
CREATED;VALUE=DATE-TIME:20231127T203420Z
LAST-MODIFIED;VALUE=DATE-TIME:20231127T203425Z
URL:https://www.franciscobeltrao.pr.leg.br/institucional/eventos/11a-reuni
 ao-da-comissao-de-infraestrutura-municipal
END:VEVENT
BEGIN:VTIMEZONE
TZID:Brazil/East
X-LIC-LOCATION:Brazil/East
BEGIN:DAYLIGHT
DTSTART;VALUE=DATE-TIME:20231015T010000
TZNAME:BRST
TZOFFSETFROM:-0300
TZOFFSETTO:-0200
END:DAYLIGHT
END:VTIMEZONE
END:VCALENDAR
