BEGIN:VCALENDAR
VERSION:2.0
PRODID:-//Plone.org//NONSGML plone.app.event//EN
X-WR-TIMEZONE:Brazil/East
BEGIN:VEVENT
SUMMARY:10ª Reunião Ordinária da Comissão de Infraestrutura Municipal
DTSTART;TZID=Brazil/East;VALUE=DATE-TIME:20231121T133000
DTEND;TZID=Brazil/East;VALUE=DATE-TIME:20231121T140000
DTSTAMP;VALUE=DATE-TIME:20260424T043807Z
UID:a4312ab4e7554002bb8135c3e2d3bb6e@www.franciscobeltrao.pr.leg.br
CREATED;VALUE=DATE-TIME:20231117T151844Z
LAST-MODIFIED;VALUE=DATE-TIME:20231117T151848Z
URL:https://www.franciscobeltrao.pr.leg.br/institucional/eventos/10a-reuni
 ao-ordinaria-da-comissao-de-infraestrutura-municipal
END:VEVENT
BEGIN:VTIMEZONE
TZID:Brazil/East
X-LIC-LOCATION:Brazil/East
BEGIN:DAYLIGHT
DTSTART;VALUE=DATE-TIME:20231015T010000
TZNAME:BRST
TZOFFSETFROM:-0300
TZOFFSETTO:-0200
END:DAYLIGHT
END:VTIMEZONE
END:VCALENDAR
