BEGIN:VCALENDAR
VERSION:2.0
PRODID:-//Plone.org//NONSGML plone.app.event//EN
X-WR-TIMEZONE:Brazil/East
BEGIN:VEVENT
SUMMARY:10ª Reunião Ordinária da Comissão de Educação\, Cultura e Es
 portes
DTSTART;TZID=Brazil/East;VALUE=DATE-TIME:20241202T150000
DTEND;TZID=Brazil/East;VALUE=DATE-TIME:20241202T152900
DTSTAMP;VALUE=DATE-TIME:20260424T043817Z
UID:edc26339e8b54b92968397c1f825599d@www.franciscobeltrao.pr.leg.br
CREATED;VALUE=DATE-TIME:20241202T121940Z
LAST-MODIFIED;VALUE=DATE-TIME:20241202T135325Z
URL:https://www.franciscobeltrao.pr.leg.br/institucional/eventos/10a-reuni
 ao-ordinaria-da-comissao-de-educacao-cultura-e-esportes
END:VEVENT
BEGIN:VTIMEZONE
TZID:Brazil/East
X-LIC-LOCATION:Brazil/East
BEGIN:DAYLIGHT
DTSTART;VALUE=DATE-TIME:20241020T010000
TZNAME:BRST
TZOFFSETFROM:-0300
TZOFFSETTO:-0200
END:DAYLIGHT
END:VTIMEZONE
END:VCALENDAR
