BEGIN:VCALENDAR
VERSION:2.0
PRODID:-//Plone.org//NONSGML plone.app.event//EN
X-WR-TIMEZONE:Brazil/East
BEGIN:VEVENT
SUMMARY:09ª Reunião Ordinária da Comissão de Redação e Justiça
DTSTART;TZID=Brazil/East;VALUE=DATE-TIME:20240522T110000
DTEND;TZID=Brazil/East;VALUE=DATE-TIME:20240522T120000
DTSTAMP;VALUE=DATE-TIME:20260424T043620Z
UID:d4380172c77f4266b804721da20b826e@www.franciscobeltrao.pr.leg.br
CREATED;VALUE=DATE-TIME:20240521T181818Z
LAST-MODIFIED;VALUE=DATE-TIME:20240521T181821Z
URL:https://www.franciscobeltrao.pr.leg.br/institucional/eventos/09a-reuni
 ao-ordinaria-da-comissao-de-redacao-e-justica
END:VEVENT
BEGIN:VTIMEZONE
TZID:Brazil/East
X-LIC-LOCATION:Brazil/East
BEGIN:STANDARD
DTSTART;VALUE=DATE-TIME:20240217T230000
TZNAME:BRT
TZOFFSETFROM:-0200
TZOFFSETTO:-0300
END:STANDARD
END:VTIMEZONE
END:VCALENDAR
