BEGIN:VCALENDAR
VERSION:2.0
PRODID:-//Plone.org//NONSGML plone.app.event//EN
X-WR-TIMEZONE:Brazil/East
BEGIN:VEVENT
SUMMARY:06ª Reunião Ordinária da Comissão de Educação\, Cultura e Es
 portes. 
DTSTART;TZID=Brazil/East;VALUE=DATE-TIME:20240701T150000
DTEND;TZID=Brazil/East;VALUE=DATE-TIME:20240701T160000
DTSTAMP;VALUE=DATE-TIME:20260424T043819Z
UID:053abc28192649d380b6ce2a5b7dd752@www.franciscobeltrao.pr.leg.br
CREATED;VALUE=DATE-TIME:20240701T130531Z
LAST-MODIFIED;VALUE=DATE-TIME:20240701T130534Z
URL:https://www.franciscobeltrao.pr.leg.br/institucional/eventos/06a-reuni
 ao-ordinaria-da-comissao-de-educacao-cultura-e-esportes
END:VEVENT
BEGIN:VTIMEZONE
TZID:Brazil/East
X-LIC-LOCATION:Brazil/East
BEGIN:STANDARD
DTSTART;VALUE=DATE-TIME:20240217T230000
TZNAME:BRT
TZOFFSETFROM:-0200
TZOFFSETTO:-0300
END:STANDARD
END:VTIMEZONE
END:VCALENDAR
