BEGIN:VCALENDAR
VERSION:2.0
PRODID:-//Plone.org//NONSGML plone.app.event//EN
X-WR-TIMEZONE:Brazil/East
BEGIN:VEVENT
SUMMARY:05ª Reunião da Comissão de Saúde\, bem-estar e Meio Ambiente. 
DTSTART;TZID=Brazil/East;VALUE=DATE-TIME:20240611T133000
DTEND;TZID=Brazil/East;VALUE=DATE-TIME:20240611T140000
DTSTAMP;VALUE=DATE-TIME:20260424T220122Z
UID:e6cdf39866c94259a324334bbf0194c4@www.franciscobeltrao.pr.leg.br
CREATED;VALUE=DATE-TIME:20240610T194157Z
LAST-MODIFIED;VALUE=DATE-TIME:20240610T194203Z
URL:https://www.franciscobeltrao.pr.leg.br/institucional/eventos/05a-reuni
 ao-da-comissao-de-saude-bem-estar-e-meio-ambiente
END:VEVENT
BEGIN:VTIMEZONE
TZID:Brazil/East
X-LIC-LOCATION:Brazil/East
BEGIN:STANDARD
DTSTART;VALUE=DATE-TIME:20240217T230000
TZNAME:BRT
TZOFFSETFROM:-0200
TZOFFSETTO:-0300
END:STANDARD
END:VTIMEZONE
END:VCALENDAR
