BEGIN:VCALENDAR
VERSION:2.0
PRODID:-//Plone.org//NONSGML plone.app.event//EN
X-WR-TIMEZONE:Brazil/East
BEGIN:VEVENT
SUMMARY:02ª Reunião Ordinária da Comissão Especial
DTSTART;TZID=Brazil/East;VALUE=DATE-TIME:20240701T133000
DTEND;TZID=Brazil/East;VALUE=DATE-TIME:20240701T140000
DTSTAMP;VALUE=DATE-TIME:20260424T043621Z
UID:84c3db0bc9b34017b582dcd552bde18c@www.franciscobeltrao.pr.leg.br
CREATED;VALUE=DATE-TIME:20240701T130432Z
LAST-MODIFIED;VALUE=DATE-TIME:20240701T130436Z
URL:https://www.franciscobeltrao.pr.leg.br/institucional/eventos/02a-reuni
 ao-ordinaria-da-comissao-especial
END:VEVENT
BEGIN:VTIMEZONE
TZID:Brazil/East
X-LIC-LOCATION:Brazil/East
BEGIN:STANDARD
DTSTART;VALUE=DATE-TIME:20240217T230000
TZNAME:BRT
TZOFFSETFROM:-0200
TZOFFSETTO:-0300
END:STANDARD
END:VTIMEZONE
END:VCALENDAR
