BEGIN:VCALENDAR
VERSION:2.0
PRODID:-//Plone.org//NONSGML plone.app.event//EN
X-WR-TIMEZONE:Brazil/East
BEGIN:VEVENT
SUMMARY:02ª Reunião Ordinária da Comissão Especial 2024 
DTSTART;TZID=Brazil/East;VALUE=DATE-TIME:20241118T100000
DTEND;TZID=Brazil/East;VALUE=DATE-TIME:20241118T110000
DTSTAMP;VALUE=DATE-TIME:20260424T043642Z
UID:29bc9e869a584e9baab407572f0dcc72@www.franciscobeltrao.pr.leg.br
CREATED;VALUE=DATE-TIME:20241113T150302Z
LAST-MODIFIED;VALUE=DATE-TIME:20241113T150306Z
URL:https://www.franciscobeltrao.pr.leg.br/institucional/eventos/02a-reuni
 ao-ordinaria-da-comissao-especial-2024
END:VEVENT
BEGIN:VTIMEZONE
TZID:Brazil/East
X-LIC-LOCATION:Brazil/East
BEGIN:DAYLIGHT
DTSTART;VALUE=DATE-TIME:20241020T010000
TZNAME:BRST
TZOFFSETFROM:-0300
TZOFFSETTO:-0200
END:DAYLIGHT
END:VTIMEZONE
END:VCALENDAR
